Package: ptairMS Version: 1.16.0 Command: rm -rf ptairMS.buildbin-libdir && mkdir ptairMS.buildbin-libdir && /Users/biocbuild/BBS/utils/build-universal.sh ptairMS_1.16.0.tar.gz /Library/Frameworks/R.framework/Resources/bin/R ptairMS.buildbin-libdir StartedAt: 2025-04-21 22:47:08 -0400 (Mon, 21 Apr 2025) EndedAt: 2025-04-21 22:47:17 -0400 (Mon, 21 Apr 2025) EllapsedTime: 9.2 seconds RetCode: 0 Status: OK PackageFile: ptairMS_1.16.0.tgz PackageFileSize: 3.435 MiB