Package: ptairMS Version: 1.16.0 Command: /Library/Frameworks/R.framework/Resources/bin/R CMD build --keep-empty-dirs --no-resave-data ptairMS StartedAt: 2025-09-26 06:49:19 -0400 (Fri, 26 Sep 2025) EndedAt: 2025-09-26 06:52:54 -0400 (Fri, 26 Sep 2025) EllapsedTime: 214.8 seconds RetCode: 0 Status: OK PackageFile: ptairMS_1.16.0.tar.gz PackageFileSize: 3.356 MiB