Package: psichomics Version: 1.34.0 Command: rm -rf psichomics.buildbin-libdir && mkdir psichomics.buildbin-libdir && E:\biocbuild\bbs-3.21-bioc\R\bin\R.exe CMD INSTALL --build --library=psichomics.buildbin-libdir psichomics_1.34.0.tar.gz StartedAt: 2025-08-15 09:59:49 -0400 (Fri, 15 Aug 2025) EndedAt: 2025-08-15 10:05:09 -0400 (Fri, 15 Aug 2025) EllapsedTime: 320.4 seconds RetCode: 0 Status: OK PackageFile: psichomics_1.34.0.zip PackageFileSize: 4.974 MiB