Package: psichomics Version: 1.34.0 Command: /Library/Frameworks/R.framework/Resources/bin/R CMD INSTALL psichomics StartedAt: 2025-10-13 16:47:29 -0400 (Mon, 13 Oct 2025) EndedAt: 2025-10-13 16:50:14 -0400 (Mon, 13 Oct 2025) EllapsedTime: 164.8 seconds RetCode: 0 Status: OK