Package: psichomics Version: 1.34.0 Command: /Library/Frameworks/R.framework/Resources/bin/R CMD build --keep-empty-dirs --no-resave-data psichomics StartedAt: 2025-10-13 21:42:34 -0400 (Mon, 13 Oct 2025) EndedAt: 2025-10-13 21:46:57 -0400 (Mon, 13 Oct 2025) EllapsedTime: 263.2 seconds RetCode: 0 Status: OK PackageFile: psichomics_1.34.0.tar.gz PackageFileSize: 6.125 MiB