Package: psichomics Version: 1.34.0 Command: rm -rf psichomics.buildbin-libdir && mkdir psichomics.buildbin-libdir && /Users/biocbuild/BBS/utils/build-universal.sh psichomics_1.34.0.tar.gz /Library/Frameworks/R.framework/Resources/bin/R psichomics.buildbin-libdir StartedAt: 2025-10-14 14:26:13 -0400 (Tue, 14 Oct 2025) EndedAt: 2025-10-14 14:29:49 -0400 (Tue, 14 Oct 2025) EllapsedTime: 215.5 seconds RetCode: 0 Status: OK PackageFile: psichomics_1.34.0.tgz PackageFileSize: 4.706 MiB