Package: psichomics Version: 1.34.0 Command: /home/biocbuild/R/R/bin/R CMD INSTALL psichomics StartedAt: 2025-10-13 21:19:21 -0000 (Mon, 13 Oct 2025) EndedAt: 2025-10-13 21:21:14 -0000 (Mon, 13 Oct 2025) EllapsedTime: 113.0 seconds RetCode: 0 Status: OK