Package: psichomics Version: 1.34.0 Command: /home/biocbuild/R/R/bin/R CMD build --keep-empty-dirs --no-resave-data psichomics StartedAt: 2025-10-14 03:42:24 -0000 (Tue, 14 Oct 2025) EndedAt: 2025-10-14 03:45:13 -0000 (Tue, 14 Oct 2025) EllapsedTime: 169.0 seconds RetCode: 0 Status: OK PackageFile: psichomics_1.34.0.tar.gz PackageFileSize: 6.314 MiB