Package: proteinProfiles Version: 1.50.0 Command: /home/biocbuild/bbs-3.22-bioc/R/bin/R CMD INSTALL proteinProfiles StartedAt: 2025-11-17 17:08:21 -0500 (Mon, 17 Nov 2025) EndedAt: 2025-11-17 17:08:24 -0500 (Mon, 17 Nov 2025) EllapsedTime: 2.2 seconds RetCode: 0 Status: OK