Package: proteinProfiles Version: 1.50.0 Command: rm -rf proteinProfiles.buildbin-libdir && mkdir proteinProfiles.buildbin-libdir && /Users/biocbuild/BBS/utils/build-universal.sh proteinProfiles_1.50.0.tar.gz /Library/Frameworks/R.framework/Resources/bin/R proteinProfiles.buildbin-libdir StartedAt: 2025-11-10 23:31:54 -0500 (Mon, 10 Nov 2025) EndedAt: 2025-11-10 23:31:56 -0500 (Mon, 10 Nov 2025) EllapsedTime: 2.1 seconds RetCode: 0 Status: OK PackageFile: proteinProfiles_1.50.0.tgz PackageFileSize: 403.6 KiB