Package: protGear Version: 1.12.0 Command: /home/biocbuild/bbs-3.21-bioc/R/bin/R CMD build --keep-empty-dirs --no-resave-data protGear StartedAt: 2025-10-15 19:15:27 -0400 (Wed, 15 Oct 2025) EndedAt: 2025-10-15 19:16:32 -0400 (Wed, 15 Oct 2025) EllapsedTime: 64.1 seconds RetCode: 0 Status: OK PackageFile: protGear_1.12.0.tar.gz PackageFileSize: 4.749 MiB