Package: protGear Version: 1.12.0 Command: /Library/Frameworks/R.framework/Resources/bin/R CMD INSTALL protGear StartedAt: 2025-10-13 15:50:47 -0400 (Mon, 13 Oct 2025) EndedAt: 2025-10-13 15:51:17 -0400 (Mon, 13 Oct 2025) EllapsedTime: 30.2 seconds RetCode: 0 Status: OK