Package: protGear Version: 1.12.0 Command: /Library/Frameworks/R.framework/Resources/bin/R CMD build --keep-empty-dirs --no-resave-data protGear StartedAt: 2025-10-14 06:59:23 -0400 (Tue, 14 Oct 2025) EndedAt: 2025-10-14 07:00:43 -0400 (Tue, 14 Oct 2025) EllapsedTime: 79.9 seconds RetCode: 0 Status: OK PackageFile: protGear_1.12.0.tar.gz PackageFileSize: 5.054 MiB