Package: profileplyr Version: 1.25.1 Command: F:\biocbuild\bbs-3.22-bioc\R\bin\R.exe CMD check --no-multiarch --install=check:profileplyr.install-out.txt --library=F:\biocbuild\bbs-3.22-bioc\R\library --no-vignettes --timings profileplyr_1.25.1.tar.gz StartedAt: 2025-08-15 06:36:14 -0400 (Fri, 15 Aug 2025) EndedAt: 2025-08-15 06:44:58 -0400 (Fri, 15 Aug 2025) EllapsedTime: 524.2 seconds RetCode: 0 Status: OK CheckDir: profileplyr.Rcheck Warnings: 0