Package: proActiv Version: 1.19.3 Command: chmod a+r proActiv -R && F:\biocbuild\bbs-3.22-bioc\R\bin\R.exe CMD build --keep-empty-dirs --no-resave-data proActiv StartedAt: 2025-08-14 22:27:08 -0400 (Thu, 14 Aug 2025) EndedAt: 2025-08-14 22:28:31 -0400 (Thu, 14 Aug 2025) EllapsedTime: 83.0 seconds RetCode: 0 Status: OK PackageFile: proActiv_1.19.3.tar.gz PackageFileSize: 2.573 MiB