Package: proActiv Version: 1.19.3 Command: rm -rf proActiv.buildbin-libdir && mkdir proActiv.buildbin-libdir && F:\biocbuild\bbs-3.22-bioc\R\bin\R.exe CMD INSTALL --build --library=proActiv.buildbin-libdir proActiv_1.19.3.tar.gz StartedAt: 2025-08-15 10:59:31 -0400 (Fri, 15 Aug 2025) EndedAt: 2025-08-15 11:00:44 -0400 (Fri, 15 Aug 2025) EllapsedTime: 73.0 seconds RetCode: 0 Status: OK PackageFile: proActiv_1.19.3.zip PackageFileSize: 2.666 MiB