Package: primirTSS Version: 1.28.0 Command: /home/biocbuild/R/R/bin/R CMD INSTALL primirTSS StartedAt: 2025-11-17 22:00:54 -0000 (Mon, 17 Nov 2025) EndedAt: 2025-11-17 22:01:49 -0000 (Mon, 17 Nov 2025) EllapsedTime: 55.1 seconds RetCode: 0 Status: OK