Package: primirTSS Version: 1.26.0 Command: /home/biocbuild/R/R/bin/R CMD check --install=check:primirTSS.install-out.txt --library=/home/biocbuild/R/R/site-library --no-vignettes --timings primirTSS_1.26.0.tar.gz StartedAt: 2025-09-26 14:01:31 -0000 (Fri, 26 Sep 2025) EndedAt: 2025-09-26 14:07:37 -0000 (Fri, 26 Sep 2025) EllapsedTime: 366.2 seconds RetCode: 0 Status: WARNINGS CheckDir: primirTSS.Rcheck Warnings: 2