Package: prebs Version: 1.48.0 Command: chmod a+r prebs -R && E:\biocbuild\bbs-3.21-bioc\R\bin\R.exe CMD build --keep-empty-dirs --no-resave-data prebs StartedAt: 2025-08-14 21:24:11 -0400 (Thu, 14 Aug 2025) EndedAt: 2025-08-14 21:28:00 -0400 (Thu, 14 Aug 2025) EllapsedTime: 228.9 seconds RetCode: 0 Status: OK PackageFile: prebs_1.48.0.tar.gz PackageFileSize: 145.4 KiB