Package: pram Version: 1.26.0 Command: /home/biocbuild/R/R/bin/R CMD build --keep-empty-dirs --no-resave-data pram StartedAt: 2025-11-21 04:52:06 -0000 (Fri, 21 Nov 2025) EndedAt: 2025-11-21 04:53:05 -0000 (Fri, 21 Nov 2025) EllapsedTime: 59.0 seconds RetCode: 0 Status: OK PackageFile: pram_1.26.0.tar.gz PackageFileSize: 2.667 MiB