Package: pram Version: 1.26.0 Command: /home/biocbuild/bbs-3.22-bioc/R/bin/R CMD INSTALL pram StartedAt: 2025-11-14 15:28:56 -0500 (Fri, 14 Nov 2025) EndedAt: 2025-11-14 15:29:30 -0500 (Fri, 14 Nov 2025) EllapsedTime: 33.7 seconds RetCode: 0 Status: OK