Package: pram Version: 1.26.0 Command: /home/biocbuild/bbs-3.22-bioc/R/bin/R CMD check --install=check:pram.install-out.txt --library=/home/biocbuild/bbs-3.22-bioc/R/site-library --timings pram_1.26.0.tar.gz StartedAt: 2025-11-15 03:07:33 -0500 (Sat, 15 Nov 2025) EndedAt: 2025-11-15 03:11:21 -0500 (Sat, 15 Nov 2025) EllapsedTime: 227.2 seconds RetCode: 0 Status: OK CheckDir: pram.Rcheck Warnings: 0