Package: pqsfinder Version: 2.26.0 Command: /home/biocbuild/bbs-3.22-bioc/R/bin/R CMD build --keep-empty-dirs --no-resave-data --md5 pqsfinder StartedAt: 2025-11-09 19:28:33 -0500 (Sun, 09 Nov 2025) EndedAt: 2025-11-09 19:30:34 -0500 (Sun, 09 Nov 2025) EllapsedTime: 121.1 seconds RetCode: 0 Status: OK PackageFile: pqsfinder_2.26.0.tar.gz PackageFileSize: 373 KiB