Package: pqsfinder Version: 2.26.0 Command: /Library/Frameworks/R.framework/Resources/bin/R CMD build --keep-empty-dirs --no-resave-data pqsfinder StartedAt: 2025-11-10 17:23:11 -0500 (Mon, 10 Nov 2025) EndedAt: 2025-11-10 17:24:03 -0500 (Mon, 10 Nov 2025) EllapsedTime: 51.6 seconds RetCode: 0 Status: OK PackageFile: pqsfinder_2.26.0.tar.gz PackageFileSize: 377.5 KiB