Package: pogos Version: 1.28.0 Command: E:\biocbuild\bbs-3.21-bioc\R\bin\R.exe CMD check --no-multiarch --install=check:pogos.install-out.txt --library=E:\biocbuild\bbs-3.21-bioc\R\library --no-vignettes --timings pogos_1.28.0.tar.gz StartedAt: 2025-08-15 05:30:54 -0400 (Fri, 15 Aug 2025) EndedAt: 2025-08-15 05:35:39 -0400 (Fri, 15 Aug 2025) EllapsedTime: 284.6 seconds RetCode: 0 Status: OK CheckDir: pogos.Rcheck Warnings: 0