Package: pogos Version: 1.30.0 Command: /Library/Frameworks/R.framework/Resources/bin/R CMD check --install=check:pogos.install-out.txt --library=/Library/Frameworks/R.framework/Resources/library --no-vignettes --timings pogos_1.30.0.tar.gz StartedAt: 2025-11-18 12:11:15 -0500 (Tue, 18 Nov 2025) EndedAt: 2025-11-18 12:19:17 -0500 (Tue, 18 Nov 2025) EllapsedTime: 482.2 seconds RetCode: 0 Status: OK CheckDir: pogos.Rcheck Warnings: 0