Package: poem Version: 1.1.2 Command: /home/biocbuild/R/R/bin/R CMD INSTALL poem StartedAt: 2025-10-23 21:23:21 -0000 (Thu, 23 Oct 2025) EndedAt: 2025-10-23 21:24:24 -0000 (Thu, 23 Oct 2025) EllapsedTime: 63.1 seconds RetCode: 0 Status: OK