Package: poem Version: 1.2.0 Command: /home/biocbuild/R/R/bin/R CMD check --install=check:poem.install-out.txt --library=/home/biocbuild/R/R/site-library --no-vignettes --timings poem_1.2.0.tar.gz StartedAt: 2025-11-21 14:21:47 -0000 (Fri, 21 Nov 2025) EndedAt: 2025-11-21 14:29:09 -0000 (Fri, 21 Nov 2025) EllapsedTime: 441.5 seconds RetCode: 0 Status: OK CheckDir: poem.Rcheck Warnings: 0