Package: poem Version: 1.1.2 Command: /home/biocbuild/R/R/bin/R CMD build --keep-empty-dirs --no-resave-data poem StartedAt: 2025-10-21 02:06:39 -0000 (Tue, 21 Oct 2025) EndedAt: 2025-10-21 02:13:25 -0000 (Tue, 21 Oct 2025) EllapsedTime: 406.2 seconds RetCode: 0 Status: OK PackageFile: poem_1.1.2.tar.gz PackageFileSize: 2.187 MiB