Package: poem Version: 1.2.0 Command: /home/biocbuild/bbs-3.22-bioc/R/bin/R CMD check --install=check:poem.install-out.txt --library=/home/biocbuild/bbs-3.22-bioc/R/site-library --timings poem_1.2.0.tar.gz StartedAt: 2025-11-01 02:54:43 -0400 (Sat, 01 Nov 2025) EndedAt: 2025-11-01 03:05:43 -0400 (Sat, 01 Nov 2025) EllapsedTime: 660.6 seconds RetCode: 0 Status: OK CheckDir: poem.Rcheck Warnings: 0