Package: poem Version: 1.2.0 Command: /home/biocbuild/bbs-3.22-bioc/R/bin/R CMD build --keep-empty-dirs --no-resave-data --md5 poem StartedAt: 2025-11-02 19:36:17 -0500 (Sun, 02 Nov 2025) EndedAt: 2025-11-02 19:41:52 -0500 (Sun, 02 Nov 2025) EllapsedTime: 335.3 seconds RetCode: 0 Status: OK PackageFile: poem_1.2.0.tar.gz PackageFileSize: 4.355 MiB