Package: poem Version: 1.2.0 Command: /Library/Frameworks/R.framework/Resources/bin/R CMD check --install=check:poem.install-out.txt --library=/Library/Frameworks/R.framework/Resources/library --no-vignettes --timings poem_1.2.0.tar.gz StartedAt: 2025-11-03 23:23:39 -0500 (Mon, 03 Nov 2025) EndedAt: 2025-11-03 23:29:27 -0500 (Mon, 03 Nov 2025) EllapsedTime: 347.2 seconds RetCode: 0 Status: OK CheckDir: poem.Rcheck Warnings: 0