Package: poem Version: 1.2.0 Command: /Library/Frameworks/R.framework/Resources/bin/R CMD INSTALL poem StartedAt: 2025-11-02 15:31:16 -0500 (Sun, 02 Nov 2025) EndedAt: 2025-11-02 15:31:34 -0500 (Sun, 02 Nov 2025) EllapsedTime: 17.9 seconds RetCode: 0 Status: OK