Package: poem Version: 1.2.0 Command: /Library/Frameworks/R.framework/Resources/bin/R CMD check --install=check:poem.install-out.txt --library=/Library/Frameworks/R.framework/Resources/library --no-vignettes --timings poem_1.2.0.tar.gz StartedAt: 2025-11-10 21:41:08 -0500 (Mon, 10 Nov 2025) EndedAt: 2025-11-10 21:43:08 -0500 (Mon, 10 Nov 2025) EllapsedTime: 119.3 seconds RetCode: 0 Status: OK CheckDir: poem.Rcheck Warnings: 0