Package: poem Version: 1.2.0 Command: /Library/Frameworks/R.framework/Resources/bin/R CMD build --keep-empty-dirs --no-resave-data poem StartedAt: 2025-10-31 17:25:42 -0400 (Fri, 31 Oct 2025) EndedAt: 2025-10-31 17:28:11 -0400 (Fri, 31 Oct 2025) EllapsedTime: 148.7 seconds RetCode: 0 Status: OK PackageFile: poem_1.2.0.tar.gz PackageFileSize: 4.708 MiB