Package: podkat Version: 1.41.1 Command: chmod a+r podkat -R && F:\biocbuild\bbs-3.22-bioc\R\bin\R.exe CMD build --keep-empty-dirs --no-resave-data podkat StartedAt: 2025-08-14 22:23:12 -0400 (Thu, 14 Aug 2025) EndedAt: 2025-08-14 22:28:28 -0400 (Thu, 14 Aug 2025) EllapsedTime: 315.9 seconds RetCode: 0 Status: OK PackageFile: podkat_1.41.1.tar.gz PackageFileSize: 1.008 MiB