Package: pmp Version: 1.20.0 Command: /Library/Frameworks/R.framework/Resources/bin/R CMD INSTALL pmp StartedAt: 2025-04-21 15:31:50 -0400 (Mon, 21 Apr 2025) EndedAt: 2025-04-21 15:32:02 -0400 (Mon, 21 Apr 2025) EllapsedTime: 11.3 seconds RetCode: 0 Status: OK