Package: pmp Version: 1.20.0 Command: rm -rf pmp.buildbin-libdir && mkdir pmp.buildbin-libdir && /Users/biocbuild/BBS/utils/build-universal.sh pmp_1.20.0.tar.gz /Library/Frameworks/R.framework/Resources/bin/R pmp.buildbin-libdir StartedAt: 2025-04-21 22:46:31 -0400 (Mon, 21 Apr 2025) EndedAt: 2025-04-21 22:46:44 -0400 (Mon, 21 Apr 2025) EllapsedTime: 12.2 seconds RetCode: 0 Status: OK PackageFile: pmp_1.20.0.tgz PackageFileSize: 5.435 MiB