Package: plyxp Version: 1.2.0 Command: /Library/Frameworks/R.framework/Resources/bin/R CMD build --keep-empty-dirs --no-resave-data plyxp StartedAt: 2025-04-21 17:17:19 -0400 (Mon, 21 Apr 2025) EndedAt: 2025-04-21 17:17:38 -0400 (Mon, 21 Apr 2025) EllapsedTime: 19.2 seconds RetCode: 0 Status: OK PackageFile: plyxp_1.2.0.tar.gz PackageFileSize: 1.176 MiB