Package: plyxp Version: 1.2.7 Command: /Library/Frameworks/R.framework/Resources/bin/R CMD check --install=check:plyxp.install-out.txt --library=/Library/Frameworks/R.framework/Resources/library --no-vignettes --timings plyxp_1.2.7.tar.gz StartedAt: 2025-10-15 07:46:47 -0400 (Wed, 15 Oct 2025) EndedAt: 2025-10-15 07:50:13 -0400 (Wed, 15 Oct 2025) EllapsedTime: 206.5 seconds RetCode: 0 Status: OK CheckDir: plyxp.Rcheck Warnings: 0