Package: plyranges Version: 1.28.0 Command: rm -rf plyranges.buildbin-libdir && mkdir plyranges.buildbin-libdir && E:\biocbuild\bbs-3.21-bioc\R\bin\R.exe CMD INSTALL --build --library=plyranges.buildbin-libdir plyranges_1.28.0.tar.gz StartedAt: 2025-08-15 09:57:36 -0400 (Fri, 15 Aug 2025) EndedAt: 2025-08-15 09:59:21 -0400 (Fri, 15 Aug 2025) EllapsedTime: 105.3 seconds RetCode: 0 Status: OK PackageFile: plyranges_1.28.0.zip PackageFileSize: 1.535 MiB