Package: plyranges Version: 1.28.0 Command: /home/biocbuild/R/R/bin/R CMD check --install=check:plyranges.install-out.txt --library=/home/biocbuild/R/R/site-library --no-vignettes --timings plyranges_1.28.0.tar.gz StartedAt: 2025-09-30 13:02:55 -0000 (Tue, 30 Sep 2025) EndedAt: 2025-09-30 13:09:16 -0000 (Tue, 30 Sep 2025) EllapsedTime: 380.4 seconds RetCode: 0 Status: OK CheckDir: plyranges.Rcheck Warnings: 0