Package: plyranges Version: 1.28.0 Command: /Library/Frameworks/R.framework/Resources/bin/R CMD check --install=check:plyranges.install-out.txt --library=/Library/Frameworks/R.framework/Resources/library --no-vignettes --timings plyranges_1.28.0.tar.gz StartedAt: 2025-04-21 20:56:45 -0400 (Mon, 21 Apr 2025) EndedAt: 2025-04-21 20:58:35 -0400 (Mon, 21 Apr 2025) EllapsedTime: 110.3 seconds RetCode: 1 Status: ERROR CheckDir: plyranges.Rcheck Warnings: NA