Package: plotGrouper Version: 1.27.0 Command: F:\biocbuild\bbs-3.22-bioc\R\bin\R.exe CMD check --no-multiarch --install=check:plotGrouper.install-out.txt --library=F:\biocbuild\bbs-3.22-bioc\R\library --no-vignettes --timings plotGrouper_1.27.0.tar.gz StartedAt: 2025-08-15 06:28:22 -0400 (Fri, 15 Aug 2025) EndedAt: 2025-08-15 06:29:29 -0400 (Fri, 15 Aug 2025) EllapsedTime: 67.2 seconds RetCode: 0 Status: OK CheckDir: plotGrouper.Rcheck Warnings: 0