Package: plotGrouper Version: 1.28.0 Command: /home/biocbuild/bbs-3.22-bioc/R/bin/R CMD INSTALL plotGrouper StartedAt: 2025-11-09 15:09:21 -0500 (Sun, 09 Nov 2025) EndedAt: 2025-11-09 15:09:34 -0500 (Sun, 09 Nov 2025) EllapsedTime: 13.3 seconds RetCode: 0 Status: OK