Package: plier Version: 1.80.0 Command: /home/biocbuild/R/R/bin/R CMD check --install=check:plier.install-out.txt --library=/home/biocbuild/R/R/site-library --no-vignettes --timings plier_1.80.0.tar.gz StartedAt: 2025-11-14 13:00:11 -0000 (Fri, 14 Nov 2025) EndedAt: 2025-11-14 13:00:41 -0000 (Fri, 14 Nov 2025) EllapsedTime: 30.1 seconds RetCode: 0 Status: WARNINGS CheckDir: plier.Rcheck Warnings: 1