Package: plier Version: 1.80.0 Command: /home/biocbuild/bbs-3.22-bioc/R/bin/R CMD INSTALL plier StartedAt: 2025-11-06 15:12:20 -0500 (Thu, 06 Nov 2025) EndedAt: 2025-11-06 15:12:26 -0500 (Thu, 06 Nov 2025) EllapsedTime: 6.5 seconds RetCode: 0 Status: OK