Package: plier Version: 1.80.0 Command: /home/biocbuild/bbs-3.22-bioc/R/bin/R CMD check --install=check:plier.install-out.txt --library=/home/biocbuild/bbs-3.22-bioc/R/site-library --timings plier_1.80.0.tar.gz StartedAt: 2025-11-10 02:56:55 -0500 (Mon, 10 Nov 2025) EndedAt: 2025-11-10 02:57:18 -0500 (Mon, 10 Nov 2025) EllapsedTime: 23.0 seconds RetCode: 0 Status: WARNINGS CheckDir: plier.Rcheck Warnings: 1