Package: plier Version: 1.80.0 Command: /home/biocbuild/bbs-3.22-bioc/R/bin/R CMD build --keep-empty-dirs --no-resave-data --md5 plier StartedAt: 2025-11-06 19:19:35 -0500 (Thu, 06 Nov 2025) EndedAt: 2025-11-06 19:19:36 -0500 (Thu, 06 Nov 2025) EllapsedTime: 1.0 seconds RetCode: 0 Status: OK PackageFile: plier_1.80.0.tar.gz PackageFileSize: 20.82 KiB