Package: plgem Version: 1.80.0 Command: /Library/Frameworks/R.framework/Resources/bin/R CMD INSTALL plgem StartedAt: 2025-10-13 15:26:23 -0400 (Mon, 13 Oct 2025) EndedAt: 2025-10-13 15:26:30 -0400 (Mon, 13 Oct 2025) EllapsedTime: 7.3 seconds RetCode: 0 Status: OK